BEGIN:VCALENDAR
VERSION:2.0
PRODID:-//Library Market//iCal Export//EN
BEGIN:VEVENT
SUMMARY:Full Steam Ahead “Billions of Bubbles”
UID:39721
DTSTAMP:20260422T192700Z
DTSTART:20260602T150000Z
DTEND:20260602T160000Z
LOCATION:Halls Branch Library, 4518 E. Emory Rd, Knoxville, TN 37938, Unit
 ed States
ROOM: Halls Branch meeting room
DESCRIPTION:Ages 3-5. Book sharing, hands-on experiments and activities, a
 nd opportunities for preschoolers to explore and learn STEAM (Science, Tec
 hnology, Engineering, Arts, Mathematics) principles. 
URL:https://www.knoxcountylibrary.org/event/full-steam-ahead-billions-bubb
 les-39721
END:VEVENT
END:VCALENDAR
