BEGIN:VCALENDAR
VERSION:2.0
PRODID:-//Library Market//iCal Export//EN
BEGIN:VEVENT
SUMMARY:Full Steam Ahead “Sink or Float”
UID:39722
DTSTAMP:20260422T191900Z
DTSTART:20260707T150000Z
DTEND:20260707T160000Z
LOCATION:Halls Branch Library, 4518 E. Emory Rd, Knoxville, TN 37938, Unit
 ed States
ROOM: Halls Branch meeting room
DESCRIPTION:Ages 3-5. Book sharing, hands-on experiments and activities, a
 nd opportunities for preschoolers to explore and learn STEAM (Science, Tec
 hnology, Engineering, Arts, Mathematics) principles. 
URL:https://www.knoxcountylibrary.org/event/full-steam-ahead-sink-or-float
 -39722
END:VEVENT
END:VCALENDAR
