BEGIN:VCALENDAR
VERSION:2.0
PRODID:-//Library Market//iCal Export//EN
BEGIN:VEVENT
SUMMARY:DIY Henna Temporary Tattoos
UID:39723
DTSTAMP:20260422T192700Z
DTSTART:20260627T180000Z
DTEND:20260627T200000Z
LOCATION:Powell Branch Library, 330 W. Emory Rd, Powell, TN 37849, United 
 States
ROOM: Powell Branch meeting room
DESCRIPTION:Interested in trying out henna (temporary) tattoos, and learni
 ng more about the process?In this program, information about body art (his
 torical and modern) will be shared. Attendees will be given the opportunit
 y to practice drawing designs before progressing to the use of henna dye. 
 Additionally, attendees will be provided (2) ways of creating personal bod
 y art (henna &amp; a secondary choice). Attendee will also receive easy to
  follow after-care instructions to take home.
URL:https://www.knoxcountylibrary.org/event/diy-henna-temporary-tattoos-39
 723
END:VEVENT
END:VCALENDAR
