BEGIN:VCALENDAR
VERSION:2.0
PRODID:-//Library Market//iCal Export//EN
BEGIN:VEVENT
SUMMARY:Fossil Fridays
UID:40291
DTSTAMP:20260422T210100Z
DTSTART:20260731T143000Z
DTEND:20260731T153000Z
LOCATION:Cedar Bluff Branch Library, 9045 Cross Park Drive, Knoxville, TN 
 37923, United States
ROOM: Cedar Bluff meeting room
DESCRIPTION:Come join us as we do different types of dinosaur fossil excav
 ations.  Space limited so please call 865-470-7033 to register.
URL:https://www.knoxcountylibrary.org/event/fossil-fridays-40291
END:VEVENT
END:VCALENDAR
