BEGIN:VCALENDAR
VERSION:2.0
PRODID:-//Library Market//iCal Export//EN
BEGIN:VEVENT
SUMMARY:Gourd Birdhouses
UID:40322
DTSTAMP:20260422T210900Z
DTSTART:20260718T180000Z
DTEND:20260718T190000Z
LOCATION:Cedar Bluff Branch Library, 9045 Cross Park Drive, Knoxville, TN 
 37923, United States
ROOM: Cedar Bluff meeting room
DESCRIPTION:Join us to learn about the history of the gourd and create a g
 ourd birdhouse. Space is limited so please call 865-470-7033 to register.
URL:https://www.knoxcountylibrary.org/event/gourd-birdhouses-40322
END:VEVENT
END:VCALENDAR
