BEGIN:VCALENDAR
VERSION:2.0
PRODID:-//Library Market//iCal Export//EN
BEGIN:VEVENT
SUMMARY:Watercolor-a-Saurus!
UID:40450
DTSTAMP:20260422T191900Z
DTSTART:20260611T180000Z
DTEND:20260611T190000Z
LOCATION:Bearden Branch Library, 100 Golf Club Rd, Knoxville, TN 37919, Un
 ited States
ROOM: Bearden Branch meeting room
DESCRIPTION:Calling all young artists! Elementary-aged children are invite
 d to paint the dinosaur of their choice using watercolors. Finished master
 pieces can be submitted for our dino-themed summer art show. 
URL:https://www.knoxcountylibrary.org/event/watercolor-saurus-40450
END:VEVENT
END:VCALENDAR
