BEGIN:VCALENDAR
VERSION:2.0
PRODID:-//Library Market//iCal Export//EN
BEGIN:VEVENT
SUMMARY:WDVX Kid Stuff Live with Sarah Pirkle
UID:40676
DTSTAMP:20260422T004900Z
DTSTART:20260516T140000Z
DTEND:20260516T150000Z
LOCATION:World&#039;s Fair Park, 525 Henley St, Knoxville , TN 37902, Unit
 ed States
ROOM: WDVX Kid Stuff Live with Sarah Pirkle
DESCRIPTION:Join Sarah Pirkle as she hosts WDVX&#039;s popular show just f
 or kids LIVE on the Music and Stories Stage as we kick off the 20th Childr
 en&#039;s Festival of Reading. Sarah is a 2021 recipient of the South Art
 s Folk &amp; Traditional Arts Master Artist Fellowship, and also was induc
 ted into the East Tennessee Writers Hall of Fame. She was a songwriting in
 structor at acclaimed Steve Kaufman’s Acoustic Camp in 2022. Sarah is th
 e program director and fiddle instructor for the Smoky Mtn. Affiliate of J
 unior Appalachian Musicians at the Great Smoky Mtn. Heritage Center in Tow
 nsend, TN. She has recorded multiple albums with her husband Jeff Barbra, 
 and on her own.
URL:https://www.knoxcountylibrary.org/event/wdvx-kid-stuff-live-sarah-pirk
 le-40676
END:VEVENT
END:VCALENDAR
