BEGIN:VCALENDAR
VERSION:2.0
PRODID:-//Library Market//iCal Export//EN
BEGIN:VEVENT
SUMMARY:Friends of the Library Used Book Sale
UID:40687
DTSTAMP:20260423T092100Z
DTSTART:20260424T140000Z
DTEND:20260425T210000Z
LOCATION:Bearden Branch Library, 100 Golf Club Rd, Knoxville, TN 37919, Un
 ited States
ROOM: Friends of the Library Used Book Sale
DESCRIPTION:Come shop the branch booksale for Mother&#039;s Day gifts or b
 ooks for reading pleasure. 
URL:https://www.knoxcountylibrary.org/event/farragut-branch-booksale-40687
END:VEVENT
END:VCALENDAR
