BEGIN:VCALENDAR
VERSION:2.0
PRODID:-//Library Market//iCal Export//EN
BEGIN:VEVENT
SUMMARY:Friends of the Library Used Book Sale
UID:40689
DTSTAMP:20260422T210900Z
DTSTART:20260627T140000Z
DTEND:20260627T210000Z
LOCATION:Karns Branch Library, 7516 Oak Ridge Highway, Knoxville, TN 37931
 , United States
ROOM: Friends of the Library Used Book Sale
DESCRIPTION:The Friends of the Library used book sales take place at bra
 nch libraries throughout the year. These sales raise money for improveme
 nts at branches and for the Friends while offering shoppers easy access t
 o great used books at affordable prices. Most items are $2 or less. Find 
 books, movies, and music. Proceeds benefit Knox County Public Library.
URL:https://www.knoxcountylibrary.org/event/friends-library-used-book-sale
 -40689
END:VEVENT
END:VCALENDAR
