BEGIN:VCALENDAR
VERSION:2.0
PRODID:-//Library Market//iCal Export//EN
BEGIN:VEVENT
SUMMARY:Roar into a Story Art Show
UID:40693
DTSTAMP:20260423T003100Z
DTSTART:20260618T040000Z
DTEND:20260702T040000Z
LOCATION:Farragut Branch Library, 417 N. Campbell Station Rd., Knoxville, 
 TN 37934, United States
ROOM: Roar into a Story Art Show
DESCRIPTION:Children and teens, create a dino-mite drawing, painting, or c
 ollage and submit it to be displayed at a participating library location. 
 Help us celebrate our &#039;Roar into a Story&#039; summer library challen
 ge theme.Art must be submitted on 9” x 12” tagboard provided by the 
 Library. (Artwork can be created on the board or mounted on it for display
 .) Art will be grouped by age levels: Preschool, Elementary School, Middle
  School, and High School.This event is part of our Summer Library Challen
 ge. Participating artists may check off five completed activities in the &
 #039;Roar into a Story&#039; challenge and receive a participation certifi
 cate. RegistrationSpace is limited; registration is required for particip
 ation. Contact your participating library location to register. (You can 
 find their contact information on this page.) Artists will be limited to 
 ONE entry per person.You must register June 18–July 2Drop off your artw
 ork July 6–8Artwork will be on display July 11–24Pick up artwork Ju
 ly 25–August 8Important: Artwork will be on public view and may be share
 d on Library social media. Artist’s first name and age group may display
 . The Library is not responsible for damage to or theft of items. The Libr
 ary will not display artwork deemed inappropriate for this show. The Libra
 ry will not store artwork after the pickup dates. See all participating l
 ocations. (If you&#039;re searching the calendar, be sure Ongoing Events a
 re set to &quot;show&quot; in the filters.)
URL:https://www.knoxcountylibrary.org/event/roar-story-art-show-40693
END:VEVENT
END:VCALENDAR
