BEGIN:VCALENDAR
VERSION:2.0
PRODID:-//Library Market//iCal Export//EN
BEGIN:VEVENT
SUMMARY:Remix the Past Film Contest
UID:40717
DTSTAMP:20260424T082000Z
DTSTART:20260501T040000Z
DTEND:20260715T040000Z
LOCATION:
DESCRIPTION:Filmmakers and creatives—TAMIS invites you to reimagine our 
 history through filmRegister for the film contest and receive licensed acc
 ess to selected archival footage spanning more than a century and remix it
  however you choose—colorize, alter the speed, add sound, or create orig
 inal dialogue and music. Select submissions will be screened during the Ea
 st Tennessee History Fair on August 15, 2026 at the Tennessee Theatre.The
  contest theme, &quot;life, liberty, and the pursuit of happiness,&quot; h
 onors the 250th anniversary of the Declaration of Independence. Artists ar
 e encouraged to be creative in their interpretation of the theme!Registrat
 ion required. A $25 entry fee applies. Prizes up to $500 will be awarded. 
 Submission deadline is July 15. 
URL:https://www.knoxcountylibrary.org/event/remix-past-film-contest-40717
END:VEVENT
END:VCALENDAR
